BEGIN:VCALENDAR
VERSION:2.0
PRODID:spatie/icalendar-generator
NAME:Kona Bridge Club
X-WR-CALNAME:Kona Bridge Club
DESCRIPTION:Events for Kona Bridge Club
X-WR-CALDESC:Events for Kona Bridge Club
BEGIN:VTIMEZONE
TZID:Pacific/Honolulu
BEGIN:STANDARD
DTSTART:20250731T120000Z
TZOFFSETFROM:-1000
TZOFFSETTO:-1000
END:STANDARD
END:VTIMEZONE
BEGIN:VTIMEZONE
TZID:UTC
BEGIN:STANDARD
DTSTART:20250728T153030Z
TZOFFSETFROM:+0000
TZOFFSETTO:+0000
END:STANDARD
END:VTIMEZONE
BEGIN:VEVENT
UID:1274-1777327200-1777341600@www.konabridge.org
DTSTAMP:20260424T153030Z
SUMMARY:Waikoloa Bridge: Monday Game
DESCRIPTION:Regular Monday Game at Waikoloa
LOCATION:68-1792 Melia St\, Community Room (in the back behind the HOA offi
 ce)\, Waikoloa
URL:https://www.konabridge.org/event/waikoloa-bridge-monday-game-april-27-2
 026/
DTSTART;TZID=Pacific/Honolulu:20260427T120000
DTEND;TZID=Pacific/Honolulu:20260427T160000
END:VEVENT
END:VCALENDAR