BEGIN:VCALENDAR
VERSION:2.0
PRODID:spatie/icalendar-generator
NAME:Kona Bridge Club
X-WR-CALNAME:Kona Bridge Club
DESCRIPTION:Events for Kona Bridge Club
X-WR-CALDESC:Events for Kona Bridge Club
BEGIN:VTIMEZONE
TZID:Pacific/Honolulu
BEGIN:STANDARD
DTSTART:20250802T130000Z
TZOFFSETFROM:-1000
TZOFFSETTO:-1000
END:STANDARD
END:VTIMEZONE
BEGIN:VTIMEZONE
TZID:UTC
BEGIN:STANDARD
DTSTART:20250728T155221Z
TZOFFSETFROM:+0000
TZOFFSETTO:+0000
END:STANDARD
END:VTIMEZONE
BEGIN:VEVENT
UID:423-1777503600-1777514400@www.konabridge.org
DTSTAMP:20260424T155221Z
SUMMARY:Kona Bridge: Wednesday Game
DESCRIPTION:
LOCATION:74-4966 Kealaka’a Street\, Kailua Kona\, HI
URL:https://www.konabridge.org/event/wed-game-april-29-2026/
DTSTART;TZID=Pacific/Honolulu:20260429T130000
DTEND;TZID=Pacific/Honolulu:20260429T160000
END:VEVENT
END:VCALENDAR