BEGIN:VCALENDAR
VERSION:2.0
PRODID:spatie/icalendar-generator
NAME:Kona Bridge Club
X-WR-CALNAME:Kona Bridge Club
DESCRIPTION:Events for Kona Bridge Club
X-WR-CALDESC:Events for Kona Bridge Club
BEGIN:VTIMEZONE
TZID:Pacific/Honolulu
BEGIN:STANDARD
DTSTART:20250517T130000Z
TZOFFSETFROM:-1000
TZOFFSETTO:-1000
END:STANDARD
END:VTIMEZONE
BEGIN:VTIMEZONE
TZID:UTC
BEGIN:STANDARD
DTSTART:20250725T082558Z
TZOFFSETFROM:+0000
TZOFFSETTO:+0000
END:STANDARD
END:VTIMEZONE
BEGIN:VEVENT
UID:412-1770850800-1770861600@www.konabridge.org
DTSTAMP:20260421T082558Z
SUMMARY:Kona Bridge: Wednesday Game
DESCRIPTION:
LOCATION:74-4966 Kealaka’a Street\, Kailua Kona\, HI
URL:https://www.konabridge.org/event/wed-game-february-11-2026/
DTSTART;TZID=Pacific/Honolulu:20260211T130000
DTEND;TZID=Pacific/Honolulu:20260211T160000
END:VEVENT
END:VCALENDAR